BEGIN:VCALENDAR
VERSION:2.0
PRODID:-//Birchwood Senior Living - ECPv6.11.2.1//NONSGML v1.0//EN
CALSCALE:GREGORIAN
METHOD:PUBLISH
X-ORIGINAL-URL:https://birchwoodseniorliving.com
X-WR-CALDESC:Events for Birchwood Senior Living
REFRESH-INTERVAL;VALUE=DURATION:PT1H
X-Robots-Tag:noindex
X-PUBLISHED-TTL:PT1H
BEGIN:VTIMEZONE
TZID:America/Chicago
BEGIN:DAYLIGHT
TZOFFSETFROM:-0600
TZOFFSETTO:-0500
TZNAME:CDT
DTSTART:20260308T080000
END:DAYLIGHT
BEGIN:STANDARD
TZOFFSETFROM:-0500
TZOFFSETTO:-0600
TZNAME:CST
DTSTART:20261101T070000
END:STANDARD
END:VTIMEZONE
BEGIN:VEVENT
DTSTART;TZID=America/Chicago:20260523T133000
DTEND;TZID=America/Chicago:20260523T143000
DTSTAMP:20260425T054058
CREATED:20260424T083630Z
LAST-MODIFIED:20260425T083630Z
UID:10001840-1779543000-1779546600@birchwoodseniorliving.com
SUMMARY:Resident Led Chat
DESCRIPTION:
URL:https://birchwoodseniorliving.com/event-calendar/resident-led-chat-103/
LOCATION:Lobby
CATEGORIES:Assisted Living
END:VEVENT
BEGIN:VEVENT
DTSTART;TZID=America/Chicago:20260523T173000
DTEND;TZID=America/Chicago:20260523T193000
DTSTAMP:20260425T054058
CREATED:20260424T083630Z
LAST-MODIFIED:20260425T083630Z
UID:10001841-1779557400-1779564600@birchwoodseniorliving.com
SUMMARY:Movie
DESCRIPTION:
URL:https://birchwoodseniorliving.com/event-calendar/movie-54/
LOCATION:Lobby
CATEGORIES:Assisted Living
END:VEVENT
BEGIN:VEVENT
DTSTART;TZID=America/Chicago:20260524T100000
DTEND;TZID=America/Chicago:20260524T110000
DTSTAMP:20260425T054058
CREATED:20260425T083630Z
LAST-MODIFIED:20260425T083630Z
UID:10001843-1779616800-1779620400@birchwoodseniorliving.com
SUMMARY:Worship w/Kathleen
DESCRIPTION:
URL:https://birchwoodseniorliving.com/event-calendar/worship-w-kathleen-21/
LOCATION:Chapel
CATEGORIES:Assisted Living
END:VEVENT
BEGIN:VEVENT
DTSTART;TZID=America/Chicago:20260524T130000
DTEND;TZID=America/Chicago:20260524T143000
DTSTAMP:20260425T054058
CREATED:20260425T083630Z
LAST-MODIFIED:20260425T083630Z
UID:10001844-1779627600-1779633000@birchwoodseniorliving.com
SUMMARY:Ice Cream Delivery
DESCRIPTION:
URL:https://birchwoodseniorliving.com/event-calendar/ice-cream-delivery-50/
CATEGORIES:Assisted Living
END:VEVENT
BEGIN:VEVENT
DTSTART;TZID=America/Chicago:20260524T133000
DTEND;TZID=America/Chicago:20260524T143000
DTSTAMP:20260425T054058
CREATED:20260425T083630Z
LAST-MODIFIED:20260425T083630Z
UID:10001845-1779629400-1779633000@birchwoodseniorliving.com
SUMMARY:Bingo
DESCRIPTION:
URL:https://birchwoodseniorliving.com/event-calendar/bingo-78/
LOCATION:Dining Room
CATEGORIES:Assisted Living
END:VEVENT
END:VCALENDAR